BEGIN:VCALENDAR
VERSION:2.0
PRODID:-//CED Technologies, Inc. - ECPv6.9.0//NONSGML v1.0//EN
CALSCALE:GREGORIAN
METHOD:PUBLISH
X-WR-CALNAME:CED Technologies, Inc.
X-ORIGINAL-URL:https://www.cedtechnologies.com
X-WR-CALDESC:Events for CED Technologies, Inc.
REFRESH-INTERVAL;VALUE=DURATION:PT1H
X-Robots-Tag:noindex
X-PUBLISHED-TTL:PT1H
BEGIN:VTIMEZONE
TZID:America/New_York
BEGIN:DAYLIGHT
TZOFFSETFROM:-0500
TZOFFSETTO:-0400
TZNAME:EDT
DTSTART:20250309T070000
END:DAYLIGHT
BEGIN:STANDARD
TZOFFSETFROM:-0400
TZOFFSETTO:-0500
TZNAME:EST
DTSTART:20251102T060000
END:STANDARD
END:VTIMEZONE
BEGIN:VEVENT
DTSTART;TZID=America/New_York:20250408T123000
DTEND;TZID=America/New_York:20250408T133000
DTSTAMP:20260422T151340
CREATED:20250407T171158Z
LAST-MODIFIED:20250407T171202Z
UID:41416-1744115400-1744119000@www.cedtechnologies.com
SUMMARY:CED's Brian Mills to Present at PADC CLE Webinar on 3D Scanning for Legal Evidence
DESCRIPTION:We are excited to announce that Gavin O’Hare and Brian Mills\, P.E. of CED Technologies\, Inc.\, will be featured at an upcoming CLE webinar hosted by the Philadelphia Association of Defense Counsel (PADC). \nBrian Mills\, PE\, will present how advanced 3D scanning technologies\, such as Matterport\, provide immersive 3D models and virtual reconstructions in litigation support. These tools offer powerful ways to communicate complex information visually\, making it more digestible and persuasive for judges and juries alike. \nWhether you are a defense attorney\, legal professional\, or simply interested in the intersection of law and technology\, this session offers a valuable opportunity to gain expert insights!
URL:https://www.cedtechnologies.com/event/ceds-brian-mills-to-present-at-padc-cle-webinar-on-3d-scanning-for-legal-evidence/
CATEGORIES:Webinars
END:VEVENT
END:VCALENDAR