BEGIN:VCALENDAR
VERSION:2.0
PRODID:-//CED Technologies, Inc. - ECPv6.9.0//NONSGML v1.0//EN
CALSCALE:GREGORIAN
METHOD:PUBLISH
X-ORIGINAL-URL:https://www.cedtechnologies.com
X-WR-CALDESC:Events for CED Technologies, Inc.
REFRESH-INTERVAL;VALUE=DURATION:PT1H
X-Robots-Tag:noindex
X-PUBLISHED-TTL:PT1H
BEGIN:VTIMEZONE
TZID:America/New_York
BEGIN:DAYLIGHT
TZOFFSETFROM:-0500
TZOFFSETTO:-0400
TZNAME:EDT
DTSTART:20250309T070000
END:DAYLIGHT
BEGIN:STANDARD
TZOFFSETFROM:-0400
TZOFFSETTO:-0500
TZNAME:EST
DTSTART:20251102T060000
END:STANDARD
END:VTIMEZONE
BEGIN:VEVENT
DTSTART;TZID=America/New_York:20250421T150000
DTEND;TZID=America/New_York:20250421T160000
DTSTAMP:20260422T103632
CREATED:20250415T195240Z
LAST-MODIFIED:20250505T183335Z
UID:41549-1745247600-1745251200@www.cedtechnologies.com
SUMMARY:DRI Tool Box Talks: Construction Law
DESCRIPTION:CED Technologies is proud to be featured as an expert presenter at April’s Tool Box Talk\, hosted by the Construction Law Committee of the Defense Research Institute (DRI). This upcoming webinar will feature engineers Michael Scott\, PhD\, PE\, and Elieser E. Perez\, PE\, as they will present on the advantages of using 3D scanning tools for demonstrative evidence. For a preview on this topic\, check out our latest case study. \nWhile the session is organized by the Construction Law Committee\, the insights will be valuable to attorneys involved in all types of litigation. In today’s courtroom\, the ability to clearly and convincingly present evidence is critical\, and that’s where advanced technologies like drone footage and Matterport 3D scanning make a powerful impact. \nJoin us for this informative session and learn how innovative tools are transforming the way legal teams present evidence and build stronger cases!
URL:https://www.cedtechnologies.com/event/dri-tool-box-talks-construction-law/
CATEGORIES:Webinars
ATTACH;FMTTYPE=image/jpeg:https://www.cedtechnologies.com/wp-content/uploads/2025/04/dri-lrb-1500x527-1.jpg
END:VEVENT
END:VCALENDAR