BEGIN:VCALENDAR
VERSION:2.0
PRODID:-//CED Technologies, Inc. - ECPv6.9.0//NONSGML v1.0//EN
CALSCALE:GREGORIAN
METHOD:PUBLISH
X-WR-CALNAME:CED Technologies, Inc.
X-ORIGINAL-URL:https://www.cedtechnologies.com
X-WR-CALDESC:Events for CED Technologies, Inc.
REFRESH-INTERVAL;VALUE=DURATION:PT1H
X-Robots-Tag:noindex
X-PUBLISHED-TTL:PT1H
BEGIN:VTIMEZONE
TZID:America/New_York
BEGIN:DAYLIGHT
TZOFFSETFROM:-0500
TZOFFSETTO:-0400
TZNAME:EDT
DTSTART:20250309T070000
END:DAYLIGHT
BEGIN:STANDARD
TZOFFSETFROM:-0400
TZOFFSETTO:-0500
TZNAME:EST
DTSTART:20251102T060000
END:STANDARD
END:VTIMEZONE
BEGIN:VEVENT
DTSTART;VALUE=DATE:20250710
DTEND;VALUE=DATE:20250711
DTSTAMP:20260423T034632
CREATED:20250623T153139Z
LAST-MODIFIED:20250623T153601Z
UID:42026-1752105600-1752191999@www.cedtechnologies.com
SUMMARY:PDI Annual CLE and Conference
DESCRIPTION:CED Technologies is proud to sponsor and attend the 2025 Annual CLE & Conference hosted by the Pennsylvania Defense Institute. We look forward to meaningful conversations with legal and insurance professionals from across the region and are excited to support this important continuing education event.
URL:https://www.cedtechnologies.com/event/pdi-annual-cle-and-conference/
LOCATION:Omni Bedford Springs Resort & Spa\, 2198 Sweet Root Road\, Bedford\, PA\, 15522
CATEGORIES:Conferences
END:VEVENT
END:VCALENDAR